BEGIN:VCALENDAR
VERSION:2.0
PRODID:-//wp-events-plugin.com//7.0.4//EN
TZID:Asia/Muscat
X-WR-TIMEZONE:Asia/Muscat
BEGIN:VEVENT
UID:64@lpi-edu.com
DTSTART;TZID=Asia/Muscat:20250914T080000
DTEND;TZID=Asia/Muscat:20250918T140000
DTSTAMP:20260316T073554Z
URL:https://lpi-edu.com/events/oracle-database-19c-advanced-pl-sql/
SUMMARY:Oracle Database 19c Advanced PL/SQL
DESCRIPTION:Oracle Database 19c: Advanced PL/SQL is designed for developers
  and database professionals who want to master advanced programming featur
 es of PL/SQL. This course covers performance optimization\, advanced data 
 types\, collections\, bulk processing\, error handling\, and the use of PL
 /SQL in large-scale applications. Learners will gain hands-on experience i
 n writing efficient\, secure\, and high-performing code to support enterpr
 ise-level databases.
ATTACH;FMTTYPE=image/jpeg:https://lpi-edu.com/wp-content/uploads/2023/11/A
 rtboard-6-100.jpg
CATEGORIES:Expired
LOCATION:LPi Institute\, Muscat\, St 99\, Al Jami Al Akbar St\,  Galla\, Pe
 arl Tower\, 3rd Floor\, Muscat\, 900\, Oman
X-APPLE-STRUCTURED-LOCATION;VALUE=URI;X-ADDRESS=Muscat\, St 99\, Al Jami Al
  Akbar St\,  Galla\, Pearl Tower\, 3rd Floor\, Muscat\, 900\, Oman;X-APPLE
 -RADIUS=100;X-TITLE=LPi Institute:geo:0,0
END:VEVENT
BEGIN:VTIMEZONE
TZID:Asia/Muscat
X-LIC-LOCATION:Asia/Muscat
BEGIN:STANDARD
DTSTART:20240914T080000
TZOFFSETFROM:+0400
TZOFFSETTO:+0400
TZNAME:+04
END:STANDARD
END:VTIMEZONE
END:VCALENDAR