BEGIN:VCALENDAR
VERSION:2.0
PRODID:-//wp-events-plugin.com//7.0.4//EN
TZID:Asia/Muscat
X-WR-TIMEZONE:Asia/Muscat
BEGIN:VEVENT
UID:57@lpi-edu.com
DTSTART;TZID=Asia/Muscat:20250605T080000
DTEND;TZID=Asia/Muscat:20250605T150000
DTSTAMP:20250902T071754Z
URL:https://lpi-edu.com/events/pecb-partnership/
SUMMARY:PECB Partnership
DESCRIPTION:We Are Now an Official PECB Partner!\nLPi Institute is proud to
  announce our official partnership with PECB (Professional Evaluation and 
 Certification Board) – a global provider of training\, examination\, and
  certification services.\nAs a PECB Authorized Partner\, we are now certif
 ied to offer internationally recognized training and certification program
 s in:\nISO standards (including ISO 27001\, ISO 9001\, ISO 22301\, ISO 310
 00\, and ISO 30301) Cybersecurity\, Risk Management\, Data Privacy\, Busi
 ness Continuity\, and more PECB Certified Trainer-led sessions\, material
 s\, and official exams\n\nWhy This Matters\nThrough this partnership\, LPi
  Institute brings globally accredited training to Oman and the region\, al
 igned with international best practices. Our clients can now benefit from:
 \n\n\n 	\nOfficial PECB courseware and exams\n\n 	\nCertified instructors 
 and trainers\n\n 	\n Recognized credentials for professionals and organiz
 ations\n\n
ATTACH;FMTTYPE=image/jpeg:https://lpi-edu.com/wp-content/uploads/2025/08/1
 -pecb-authorized-partner-1.webp
CATEGORIES:Expired
END:VEVENT
BEGIN:VTIMEZONE
TZID:Asia/Muscat
X-LIC-LOCATION:Asia/Muscat
BEGIN:STANDARD
DTSTART:20240605T080000
TZOFFSETFROM:+0400
TZOFFSETTO:+0400
TZNAME:+04
END:STANDARD
END:VTIMEZONE
END:VCALENDAR