BEGIN:VCALENDAR
VERSION:2.0
PRODID:-//wp-events-plugin.com//7.0.4//EN
TZID:Asia/Muscat
X-WR-TIMEZONE:Asia/Muscat
BEGIN:VEVENT
UID:50@lpi-edu.com
DTSTART;TZID=Asia/Muscat:20260412T080000
DTEND;TZID=Asia/Muscat:20260416T150000
DTSTAMP:20260316T134237Z
URL:https://lpi-edu.com/events/pmp/
SUMMARY:PMP /Project Management Professional
DESCRIPTION:The Project Management Professional (PMP)® certification by th
 e Project Management Institute (PMI) is the gold standard in project manag
 ement. This course prepares professionals to lead projects confidently acr
 oss industries by aligning with the latest practices outlined in the PMBOK
 ® Guide and Agile methodologies.\nDesigned for project managers\, team le
 aders\, and professionals seeking global recognition\, this course equips 
 participants with the knowledge\, tools\, and techniques needed to deliver
  projects successfully — on time\, on budget\, and with quality.\n\n\n\n
 \nWhat You Will Learn:\n\n 	\nProject integration\, scope\, time\, and cos
 t management\n\n 	\nQuality\, resource\, risk\, and stakeholder management
 \n\n 	\nPredictive\, Agile\, and hybrid project management approaches\n\n 
 	\nLeadership\, communication\, and team performance\n\n 	\nTools and tech
 niques for scheduling\, budgeting\, and control\n\n 	\nPMP exam strategy a
 nd question breakdown\n\n
ATTACH;FMTTYPE=image/jpeg:https://lpi-edu.com/wp-content/uploads/2025/04/P
 MP-1.webp
CATEGORIES:Upcoming
LOCATION:LPi Institute\, Muscat\, St 99\, Al Jami Al Akbar St\,  Galla\, Pe
 arl Tower\, 3rd Floor\, Muscat\, 900\, Oman
X-APPLE-STRUCTURED-LOCATION;VALUE=URI;X-ADDRESS=Muscat\, St 99\, Al Jami Al
  Akbar St\,  Galla\, Pearl Tower\, 3rd Floor\, Muscat\, 900\, Oman;X-APPLE
 -RADIUS=100;X-TITLE=LPi Institute:geo:0,0
END:VEVENT
BEGIN:VTIMEZONE
TZID:Asia/Muscat
X-LIC-LOCATION:Asia/Muscat
BEGIN:STANDARD
DTSTART:20250412T080000
TZOFFSETFROM:+0400
TZOFFSETTO:+0400
TZNAME:+04
END:STANDARD
END:VTIMEZONE
END:VCALENDAR