BEGIN:VCALENDAR
VERSION:2.0
PRODID:-//wp-events-plugin.com//7.0.4//EN
TZID:Asia/Muscat
X-WR-TIMEZONE:Asia/Muscat
BEGIN:VEVENT
UID:56@lpi-edu.com
DTSTART;TZID=Asia/Muscat:20250803T130000
DTEND;TZID=Asia/Muscat:20250807T170000
DTSTAMP:20250821T104202Z
URL:https://lpi-edu.com/events/power-bi-%d8%aa%d8%ad%d9%84%d9%8a%d9%84-%d9
 %88%d8%b9%d8%b1%d8%b6-%d8%a7%d9%84%d8%a8%d9%8a%d8%a7%d9%86%d8%a7%d8%aa-%d8
 %a8%d8%a7%d8%b3%d8%aa%d8%ae%d8%af%d8%a7%d9%85/
SUMMARY:Power BI تحليل وعرض البيانات باستخدام
DESCRIPTION:\n\n\n\nورة تحليل وعرض البيانات باستخ
 دام Power BI تهدف إلى تزويد المشاركين بالمه
 ارات اللازمة لاستخدام أداة Power BI لتحليل ا
 لبيانات وإنشاء تقارير ولوحات معلومات تف
 اعلية. تركز الدورة على كيفية جمع البيانا
 ت من مصادر متعددة، وتنظيفها، وتحويلها، ث
 م عرضها بطريقة بصرية وفعالة. \n\n\n\n\n\n\n\n\n\n\
 n\n\nأهداف الدورة:\n\n\n\n\n\n\n\nفهم أساسيات Power B
 I:\n\n\nيشمل ذلك واجهة المستخدم، وعملية ETL (ا
 لاستخراج، والتحويل، والتحميل)، وPower Query، 
 ونمذجة البيانات. \n\n\n\n\n\n\n\n\n\n\n\n\n\n\nالتعام
 ل مع البيانات:\n\n\nتعلم كيفية استيراد البي
 انات من مصادر مختلفة، وتنظيفها، وتهيئته
 ا للتحليل. \n\n\n\n\n\n\n\n\n\n\n\n\n\n\nتحليل البيان
 ات:\n\n\nتعلم كيفية استخدام أدوات Power BI لتحل
 يل البيانات واستخلاص الرؤى. \n\n\n\n\n\n\n\n\n\n\n
 \n\n\n\nإنشاء التقارير ولوحات المعلومات:\n\n\n
 تعلم كيفية تصميم تقارير ولوحات معلومات ت
 فاعلية وجذابة بصريًا. \n\n\n\n\n\n\n\n\n\n\n\n\n\n\nم
 شاركة التقارير:\n\n\nتعلم كيفية مشاركة الت
 قارير ولوحات المعلومات مع الآخرين. \n\n\n\n\
 n\n\n\n\n\n\n\n\n\n\n\nمحتوى الدورة:\n\n\n\n\n\n\n\nمقدمة 
 عن Power BI:\n\n\nنظرة عامة على الأداة ومكوناته
 ا، ومفاهيم أساسية مثل مصادر البيانات، وا
 لتقارير، ولوحات المعلومات. \n\n\n\n\n\n\n\n\n\n\n\
 n\nPower Query:\n\n\nتعلم كيفية استيراد البيانات 
 من مصادر مختلفة، وتنظيفها، وتهيئتها باس
 تخدام Power Query. \n\n\n\n\n\n\n\n\n\n\n\n\nنموذج البيان
 ات:\n\n\nتعلم كيفية إنشاء نماذج بيانات قابل
 ة للتطوير، والعلاقات بين الجداول، وجدول 
 التقويم. \n\n\n\n\n\n\n\n\n\n\n\n\nDAX:\n\n\nتعلم كيفية 
 استخدام تعبيرات DAX لإنشاء مقاييس وأعمدة 
 مخصصة. \n\n\n\n\n\n\n\n\n\n\n\n\nتصور البيانات:\n\n\nت
 علم كيفية إنشاء رسوم بيانية ولوحات معلوم
 ات تفاعلية باستخدام Power BI. \n\n\n\n\n\n\n\n\n\n\n\n\n
 تحليل البيانات:\n\n\nتعلم كيفية استخدام أد
 وات التحليل المتقدمة في Power BI. \n\n\n\n\n\n\n\n\n\
 n\n\n\nمشاركة التقارير:\n\n\nتعلم كيفية نشر ال
 تقارير ولوحات المعلومات ومشاركتها مع ال
 آخرين. \n\n\n\n\n\n\n\n\n\n\n\n\n\n\n\nالمستفيدون من ا
 لدورة:\n\n\n\n\nمحللو البيانات\, مسؤولو الأعم
 ال\, المسوقون\, المستشارون\, أي شخص مهتم بت
 حليل البيانات واستخدام Power BI.\n\n\n\n\n\n\n\n\n \n
 \n\n
ATTACH;FMTTYPE=image/jpeg:https://lpi-edu.com/wp-content/uploads/2023/11/A
 rtboard-6-100.jpg
CATEGORIES:Expired
END:VEVENT
BEGIN:VTIMEZONE
TZID:Asia/Muscat
X-LIC-LOCATION:Asia/Muscat
BEGIN:STANDARD
DTSTART:20240803T130000
TZOFFSETFROM:+0400
TZOFFSETTO:+0400
TZNAME:+04
END:STANDARD
END:VTIMEZONE
END:VCALENDAR