BEGIN:VCALENDAR
VERSION:2.0
PRODID:-//wp-events-plugin.com//7.0.4//EN
TZID:Asia/Muscat
X-WR-TIMEZONE:Asia/Muscat
BEGIN:VEVENT
UID:15@lpi-edu.com
DTSTART;TZID=Asia/Muscat:20260419T080000
DTEND;TZID=Asia/Muscat:20260423T140000
DTSTAMP:20260316T135606Z
URL:https://lpi-edu.com/events/power-bi/
SUMMARY:Power BI
DESCRIPTION:Exploring the dynamic realm of data analytics with Power BI cou
 rse. Power BI is a robust business analytics tool by Microsoft that transf
 orms raw data into insightful visualizations\, enabling professionals to m
 ake informed decisions. In this course\, delve into the intricacies of Pow
 er BI\, learning to create compelling dashboards\, analyze trends\, and ex
 tract actionable intelligence from diverse datasets. Acquire the skills to
  navigate this powerful tool and harness its capabilities for impactful da
 ta-driven insights in your professional journey.
ATTACH;FMTTYPE=image/jpeg:https://lpi-edu.com/wp-content/uploads/2023/11/P
 ower_BI_4.webp
CATEGORIES:Upcoming
LOCATION:LPi Institute\, Muscat\, St 99\, Al Jami Al Akbar St\,  Galla\, Pe
 arl Tower\, 3rd Floor\, Muscat\, 900\, Oman
X-APPLE-STRUCTURED-LOCATION;VALUE=URI;X-ADDRESS=Muscat\, St 99\, Al Jami Al
  Akbar St\,  Galla\, Pearl Tower\, 3rd Floor\, Muscat\, 900\, Oman;X-APPLE
 -RADIUS=100;X-TITLE=LPi Institute:geo:0,0
END:VEVENT
BEGIN:VTIMEZONE
TZID:Asia/Muscat
X-LIC-LOCATION:Asia/Muscat
BEGIN:STANDARD
DTSTART:20250419T080000
TZOFFSETFROM:+0400
TZOFFSETTO:+0400
TZNAME:+04
END:STANDARD
END:VTIMEZONE
END:VCALENDAR