BEGIN:VCALENDAR
VERSION:2.0
PRODID:-//wp-events-plugin.com//7.0.4//EN
TZID:Asia/Muscat
X-WR-TIMEZONE:Asia/Muscat
BEGIN:VEVENT
UID:61@lpi-edu.com
DTSTART;TZID=Asia/Muscat:20250810T130000
DTEND;TZID=Asia/Muscat:20250814T170000
DTSTAMP:20250821T100333Z
URL:https://lpi-edu.com/events/python-programming/
SUMMARY:Python Programming
DESCRIPTION:Course Description: This course provides a comprehensive introd
 uction to Python programming\, covering fundamental concepts\, essential l
 ibraries\, and practical applications. Participants will learn to write cl
 ean\, efficient\, and well-structured Python code\, preparing them for var
 ious roles in software development\, data science\, web development\, and 
 automation.\n\nTarget Audience:\n\n 	Absolute beginners with no prior prog
 ramming experience.\n 	Professionals looking to switch to Python or enhanc
 e their existing skill set.\n 	Anyone interested in data analysis\, web de
 velopment\, automation\, or machine learning with Python.\n\nLearning Obje
 ctives: Upon successful completion of this course\, participants will be a
 ble to:\n\n 	Understand Python's core syntax and programming paradigms.\n 
 	Write\, debug\, and execute Python scripts effectively.\n 	Work with vari
 ous data types and data structures.\n 	Implement control flow\, functions\
 , and modules for structured programming.\n 	Apply object-oriented program
 ming (OOP) principles in Python.\n 	Handle files and exceptions for robust
  application development.\n 	Utilize key Python libraries for common tasks
  (e.g.\, data manipulation\, web requests).\n 	Develop basic applications 
 and solve real-world problems using Python.\n
ATTACH;FMTTYPE=image/jpeg:https://lpi-edu.com/wp-content/uploads/2023/11/A
 rtboard-6-100.jpg
CATEGORIES:Expired
END:VEVENT
BEGIN:VTIMEZONE
TZID:Asia/Muscat
X-LIC-LOCATION:Asia/Muscat
BEGIN:STANDARD
DTSTART:20240810T130000
TZOFFSETFROM:+0400
TZOFFSETTO:+0400
TZNAME:+04
END:STANDARD
END:VTIMEZONE
END:VCALENDAR