BEGIN:VCALENDAR
VERSION:2.0
PRODID:-//wp-events-plugin.com//7.0.4//EN
TZID:Asia/Muscat
X-WR-TIMEZONE:Asia/Muscat
BEGIN:VEVENT
UID:16@lpi-edu.com
DTSTART;TZID=Asia/Muscat:20240107T080000
DTEND;TZID=Asia/Muscat:20240111T120000
DTSTAMP:20240624T100028Z
URL:https://lpi-edu.com/events/risk-management/
SUMMARY:Risk Management
DESCRIPTION:Step into the realm of strategic foresight with our Risk Manage
 ment course. In today's dynamic environment\, mastering risk management is
  key to success. This program is tailored to empower participants with the
  expertise to identify\, assess\, and navigate risks adeptly. Delve into t
 he intricacies of risk analysis\, cultivate proactive strategies\, and eme
 rge equipped to confidently tackle uncertainties. Join us in honing the sk
 ills of risk management\, ensuring a robust approach to safeguarding proje
 cts and fostering a resilient future.
ATTACH;FMTTYPE=image/jpeg:https://lpi-edu.com/wp-content/uploads/2023/11/A
 rtboard-5-100.jpg
CATEGORIES:Expired
END:VEVENT
BEGIN:VTIMEZONE
TZID:Asia/Muscat
X-LIC-LOCATION:Asia/Muscat
BEGIN:STANDARD
DTSTART:20230107T080000
TZOFFSETFROM:+0400
TZOFFSETTO:+0400
TZNAME:+04
END:STANDARD
END:VTIMEZONE
END:VCALENDAR