BEGIN:VCALENDAR
VERSION:2.0
PRODID:-//wp-events-plugin.com//7.0.4//EN
TZID:Asia/Muscat
X-WR-TIMEZONE:Asia/Muscat
BEGIN:VEVENT
UID:2@lpi-edu.com
DTSTART;TZID=Atlantic/Azores:20240929T080000
DTEND;TZID=Atlantic/Azores:20241003T140000
DTSTAMP:20241110T101012Z
URL:https://lpi-edu.com/events/spss-%d8%a7%d9%84%d8%aa%d8%ad%d9%84%d9%8a%d
 9%84-%d8%a7%d9%84%d8%a7%d8%ad%d8%b5%d8%a7%d8%a6%d9%8a-%d8%a8%d8%a7%d8%b3%d
 8%aa%d8%ae%d8%af%d8%a7%d9%85-%d8%a8%d8%b1%d9%86%d8%a7%d9%85%d8%ac/
SUMMARY:SPSS التحليل الاحصائي باستخدام برنامج
DESCRIPTION:In today’s data-driven world\, the ability to analyze and int
 erpret data is a crucial skill for professionals across various fields. Th
 is course\, " Data Analysis Using SPSS\," is designed to equip participant
 s with the knowledge and practical skills necessary to perform comprehensi
 ve data analysis using the SPSS software.\n\nThroughout the course\, parti
 cipants will engage in a thorough review of SPSS components\, learn the in
 tricacies of data coding and cleaning\, and explore a wide range of statis
 tical tests\, including both parametric and non-parametric methods. The co
 urse will emphasize hands-on practice\, ensuring that participants not onl
 y understand the theoretical aspects of the analyses but also gain the con
 fidence to apply these techniques to real-world data.\n\nPlease contact us
  to provide more details
ATTACH;FMTTYPE=image/jpeg:https://lpi-edu.com/wp-content/uploads/2023/11/A
 rtboard-2-100.jpg
CATEGORIES:Expired
LOCATION:LPi Institute\, Muscat\, St 99\, Al Jami Al Akbar St\,  Galla\, Pe
 arl Tower\, 3rd Floor\, Muscat\, 900\, Oman
X-APPLE-STRUCTURED-LOCATION;VALUE=URI;X-ADDRESS=Muscat\, St 99\, Al Jami Al
  Akbar St\,  Galla\, Pearl Tower\, 3rd Floor\, Muscat\, 900\, Oman;X-APPLE
 -RADIUS=100;X-TITLE=LPi Institute:geo:0,0
END:VEVENT
BEGIN:VTIMEZONE
TZID:Atlantic/Azores
X-LIC-LOCATION:Atlantic/Azores
BEGIN:DAYLIGHT
DTSTART:20240331T010000
TZOFFSETFROM:-0100
TZOFFSETTO:+0000
TZNAME:+00
END:DAYLIGHT
END:VTIMEZONE
END:VCALENDAR