BEGIN:VCALENDAR
VERSION:2.0
PRODID:-//wp-events-plugin.com//7.0.4//EN
TZID:Asia/Muscat
X-WR-TIMEZONE:Asia/Muscat
BEGIN:VEVENT
UID:35@lpi-edu.com
DTSTART;TZID=Asia/Muscat:20240929T080000
DTEND;TZID=Asia/Muscat:20241003T140000
DTSTAMP:20241110T101048Z
URL:https://lpi-edu.com/events/sql-server-fundamentals/
SUMMARY:SQL server fundamentals
DESCRIPTION:The course is provided as an introductory class for anyone gett
 ing started with databases. It will be useful to programmers and other IT 
 professionals whose job roles are expanding into database management. Stud
 ents will learn fundamental database concepts through demonstrations and h
 ands-on labs on a SQL Server instance.\n\nIn this course\, students will c
 ompose SQL queries to retrieve desired information from a database and wil
 l work with queries to manipulate and index tables. Students will also cre
 ate transactions so that you can choose to save or cancel data entry proce
 ss.\n\nThe course describes fundamental database concepts including datab
 ase types\, database languages\, and database designs.\n\nPlease contact u
 s to provide more details
ATTACH;FMTTYPE=image/jpeg:https://lpi-edu.com/wp-content/uploads/2023/11/A
 rtboard-6-100.jpg
CATEGORIES:Expired
LOCATION:LPi Institute\, Muscat\, St 99\, Al Jami Al Akbar St\,  Galla\, Pe
 arl Tower\, 3rd Floor\, Muscat\, 900\, Oman
X-APPLE-STRUCTURED-LOCATION;VALUE=URI;X-ADDRESS=Muscat\, St 99\, Al Jami Al
  Akbar St\,  Galla\, Pearl Tower\, 3rd Floor\, Muscat\, 900\, Oman;X-APPLE
 -RADIUS=100;X-TITLE=LPi Institute:geo:0,0
END:VEVENT
BEGIN:VTIMEZONE
TZID:Asia/Muscat
X-LIC-LOCATION:Asia/Muscat
BEGIN:STANDARD
DTSTART:20230930T080000
TZOFFSETFROM:+0400
TZOFFSETTO:+0400
TZNAME:+04
END:STANDARD
END:VTIMEZONE
END:VCALENDAR