BEGIN:VCALENDAR
VERSION:2.0
PRODID:-//wp-events-plugin.com//7.0.4//EN
TZID:Asia/Muscat
X-WR-TIMEZONE:Asia/Muscat
BEGIN:VEVENT
UID:46@lpi-edu.com
DTSTART;TZID=Asia/Muscat:20250420T080000
DTEND;TZID=Asia/Muscat:20250424T140000
DTSTAMP:20250430T171137Z
URL:https://lpi-edu.com/events/web-design-using-html5-css3/
SUMMARY:CISA/ Certified Information Systems Auditor
DESCRIPTION:Certified Information Systems Auditor® (CISA®) is world-renow
 ned as the standard of achievement for those\nwho audit\, control\, monito
 r and assess an organization’s IT and business systems. If you are a mid
 -career\nprofessional\, CISA can showcase your expertise and assert your a
 bility to apply a risk-based approach to\nplanning\, executing and reporti
 ng on audit engagements.
ATTACH;FMTTYPE=image/jpeg:https://lpi-edu.com/wp-content/uploads/2023/11/A
 rtboard-6-100.jpg
CATEGORIES:Expired
END:VEVENT
BEGIN:VTIMEZONE
TZID:Asia/Muscat
X-LIC-LOCATION:Asia/Muscat
BEGIN:STANDARD
DTSTART:20240420T080000
TZOFFSETFROM:+0400
TZOFFSETTO:+0400
TZNAME:+04
END:STANDARD
END:VTIMEZONE
END:VCALENDAR